BEGIN:VCALENDAR
VERSION:2.0
PRODID:-//Schützenverein Hubertus Gaimersheim - ECPv6.15.20//NONSGML v1.0//EN
CALSCALE:GREGORIAN
METHOD:PUBLISH
X-WR-CALNAME:Schützenverein Hubertus Gaimersheim
X-ORIGINAL-URL:https://hubertus-gaimersheim.de
X-WR-CALDESC:Veranstaltungen für Schützenverein Hubertus Gaimersheim
REFRESH-INTERVAL;VALUE=DURATION:PT1H
X-Robots-Tag:noindex
X-PUBLISHED-TTL:PT1H
BEGIN:VTIMEZONE
TZID:UTC
BEGIN:STANDARD
TZOFFSETFROM:+0000
TZOFFSETTO:+0000
TZNAME:UTC
DTSTART:20250101T000000
END:STANDARD
END:VTIMEZONE
BEGIN:VEVENT
DTSTART;TZID=UTC:20260501T180000
DTEND;TZID=UTC:20260501T230000
DTSTAMP:20260423T083503
CREATED:20260106T171204Z
LAST-MODIFIED:20260106T171208Z
UID:3877-1777658400-1777676400@hubertus-gaimersheim.de
SUMMARY:01.05.2026: Rum-Tasting
DESCRIPTION:Liebe Mitglieder\, \n\n\n\nwir laden Euch herzlich zu unserem Rum‑Tasting mit Abendessen am 01. Mai 2026 ein. \n\n\n\nDie Anmeldung erfolgt per E‑Mail an info@hubertus-gaimersheim.de oder direkt bei Hans Münch. Mit der Anmeldung ist die Teilnahmegebühr zu entrichten. \n\n\n\nWir freuen uns auf einen genussvollen Abend mit Euch.
URL:https://hubertus-gaimersheim.de/event/01-05-2026-rum-tasting
END:VEVENT
END:VCALENDAR